BEGIN:VCALENDAR
VERSION:2.0
PRODID:-//Rixe Arena Tournament - ECPv5.10.0//NONSGML v1.0//EN
CALSCALE:GREGORIAN
METHOD:PUBLISH
X-WR-CALNAME:Rixe Arena Tournament
X-ORIGINAL-URL:https://rixe-arena-tournament.fr
X-WR-CALDESC:évènements pour Rixe Arena Tournament
BEGIN:VTIMEZONE
TZID:Europe/Paris
BEGIN:DAYLIGHT
TZOFFSETFROM:+0100
TZOFFSETTO:+0200
TZNAME:CEST
DTSTART:20220327T010000
END:DAYLIGHT
BEGIN:STANDARD
TZOFFSETFROM:+0200
TZOFFSETTO:+0100
TZNAME:CET
DTSTART:20221030T010000
END:STANDARD
END:VTIMEZONE
BEGIN:VEVENT
DTSTART;VALUE=DATE:20220827
DTEND;VALUE=DATE:20220829
DTSTAMP:20260423T160047
CREATED:20220410T020342Z
LAST-MODIFIED:20220825T133831Z
UID:964-1661558400-1661731199@rixe-arena-tournament.fr
SUMMARY:Mixionnage : En route vers le MixUp
DESCRIPTION:Tournoi de qualification Le MIXIONNAGE\nEn partenariat avec l’Urban Festival 2022 d’Albi\n\nLes qualifiés remporteront un trophée ainsi que le financement de leurs frais d’inscription au “MixUp” qui ce déroulera a Lyon le 1 et 2 Octobre 2022.\nQuatre places a prendre:\nTEKKEN 7 (participe le Tekken World Tour 2022)\nStreet Fighter V\nGuilty Gear -Strive-\n\nInscriptions disponible pour seulement 4€ ici :\nhttps://www.start.gg/le-mixionnage-2022/\nVenez vous battre et pourquoi pas vivre une expérience inoubliable !\nPour plus d’infos\, n’hésitez pas a nous contacter. 😉 \n 
URL:https://rixe-arena-tournament.fr/event/mixionnage-en-route-vers-le-mixup/
LOCATION:marranel\, 28 Rue Alain Colas\, albi\, 81000\, France
END:VEVENT
END:VCALENDAR