BEGIN:VCALENDAR
VERSION:2.0
PRODID:-//Rixe Arena Tournament - ECPv5.10.0//NONSGML v1.0//EN
CALSCALE:GREGORIAN
METHOD:PUBLISH
X-WR-CALNAME:Rixe Arena Tournament
X-ORIGINAL-URL:https://rixe-arena-tournament.fr
X-WR-CALDESC:évènements pour Rixe Arena Tournament
BEGIN:VTIMEZONE
TZID:Europe/Paris
BEGIN:DAYLIGHT
TZOFFSETFROM:+0100
TZOFFSETTO:+0200
TZNAME:CEST
DTSTART:20230326T010000
END:DAYLIGHT
BEGIN:STANDARD
TZOFFSETFROM:+0200
TZOFFSETTO:+0100
TZNAME:CET
DTSTART:20231029T010000
END:STANDARD
END:VTIMEZONE
BEGIN:VEVENT
DTSTART;VALUE=DATE:20230422
DTEND;VALUE=DATE:20230424
DTSTAMP:20260423T023836
CREATED:20230209T012525Z
LAST-MODIFIED:20230209T012525Z
UID:1094-1682121600-1682294399@rixe-arena-tournament.fr
SUMMARY:En route pour le MixUp  2023
DESCRIPTION:Joignez vous a nous pour aller au MixUp 2023
URL:https://rixe-arena-tournament.fr/event/en-route-pour-le-mixup-2023/
LOCATION:Tarn
END:VEVENT
END:VCALENDAR