BEGIN:VCALENDAR
VERSION:2.0
PRODID:-//Rixe Arena Tournament - ECPv5.10.0//NONSGML v1.0//EN
CALSCALE:GREGORIAN
METHOD:PUBLISH
X-WR-CALNAME:Rixe Arena Tournament
X-ORIGINAL-URL:https://rixe-arena-tournament.fr
X-WR-CALDESC:évènements pour Rixe Arena Tournament
BEGIN:VTIMEZONE
TZID:Europe/Paris
BEGIN:DAYLIGHT
TZOFFSETFROM:+0100
TZOFFSETTO:+0200
TZNAME:CEST
DTSTART:20230326T010000
END:DAYLIGHT
BEGIN:STANDARD
TZOFFSETFROM:+0200
TZOFFSETTO:+0100
TZNAME:CET
DTSTART:20231029T010000
END:STANDARD
END:VTIMEZONE
BEGIN:VEVENT
DTSTART;TZID=Europe/Paris:20230430T080000
DTEND;TZID=Europe/Paris:20230430T200000
DTSTAMP:20260423T023717
CREATED:20230328T000231Z
LAST-MODIFIED:20230328T000231Z
UID:1099-1682841600-1682884800@rixe-arena-tournament.fr
SUMMARY:Tournoi a Carmaux (81)
DESCRIPTION:
URL:https://rixe-arena-tournament.fr/event/tournoi-a-carmaux-81/
LOCATION:Tarn
END:VEVENT
END:VCALENDAR