BEGIN:VCALENDAR
VERSION:2.0
PRODID:-//Rixe Arena Tournament - ECPv5.10.0//NONSGML v1.0//EN
CALSCALE:GREGORIAN
METHOD:PUBLISH
X-WR-CALNAME:Rixe Arena Tournament
X-ORIGINAL-URL:https://rixe-arena-tournament.fr
X-WR-CALDESC:évènements pour Rixe Arena Tournament
BEGIN:VTIMEZONE
TZID:Europe/Paris
BEGIN:DAYLIGHT
TZOFFSETFROM:+0100
TZOFFSETTO:+0200
TZNAME:CEST
DTSTART:20230326T010000
END:DAYLIGHT
BEGIN:STANDARD
TZOFFSETFROM:+0200
TZOFFSETTO:+0100
TZNAME:CET
DTSTART:20231029T010000
END:STANDARD
END:VTIMEZONE
BEGIN:VEVENT
DTSTART;TZID=Europe/Paris:20231028T090000
DTEND;TZID=Europe/Paris:20231029T190000
DTSTAMP:20260422T174401
CREATED:20230726T230340Z
LAST-MODIFIED:20231025T013549Z
UID:1168-1698483600-1698606000@rixe-arena-tournament.fr
SUMMARY:Blagnac Culture Geek 2023
DESCRIPTION:Tournois qui auront lieu a l’intérieur de la convention “Blagnac Culture Geek”. \nL’entrée y est gratuite !\nLes vainqueurs remportent un trophée pour pouvoir ce la péter en soirée mondaine. \nInformations lié au tournois :\nL’inscription peut ce faire sur place ou en ligne : https://www.start.gg/tournament/blagnac-culture-geek-2023/\n* CHECK IN A 13H00\n* DEBUT DU TOURNOI 14H00\nBRACKET EN DOUBLE ELIMINATION \nSi les joueurs appelés ne sont pas présent\, ils ont 5 minutes avant d’être disqualifiés.
URL:https://rixe-arena-tournament.fr/event/blagnac-culture-geek-2023/
LOCATION:Tarn
END:VEVENT
END:VCALENDAR