BEGIN:VCALENDAR
VERSION:2.0
PRODID:-//Rixe Arena Tournament - ECPv5.10.0//NONSGML v1.0//EN
CALSCALE:GREGORIAN
METHOD:PUBLISH
X-WR-CALNAME:Rixe Arena Tournament
X-ORIGINAL-URL:https://rixe-arena-tournament.fr
X-WR-CALDESC:évènements pour Rixe Arena Tournament
BEGIN:VTIMEZONE
TZID:Europe/Paris
BEGIN:DAYLIGHT
TZOFFSETFROM:+0100
TZOFFSETTO:+0200
TZNAME:CEST
DTSTART:20220327T010000
END:DAYLIGHT
BEGIN:STANDARD
TZOFFSETFROM:+0200
TZOFFSETTO:+0100
TZNAME:CET
DTSTART:20221030T010000
END:STANDARD
END:VTIMEZONE
BEGIN:VEVENT
DTSTART;VALUE=DATE:20220227
DTEND;VALUE=DATE:20220228
DTSTAMP:20260424T002602
CREATED:20211024T221929Z
LAST-MODIFIED:20220116T225700Z
UID:711-1645920000-1646006399@rixe-arena-tournament.fr
SUMMARY:Ptit T.A.F
DESCRIPTION:Le ptit T.A.F c’est un regroupement de tournois.\nDe son vrai nom “Tarn Arena Fighter”\, le ptit T.A.F est avant tout un événement permettant de réunir les joueurs de différents jeux ensemble.\nChaque participants peut s’inscrire pour un ou plusieurs tournois. \nATTENTION!\nSi le nombre d’inscrits d’un des tournois n’est pas suffisant\, il est tout simplement annulé. \nPour cette première édition nous proposont:\n– Street Fighter V\n– Mortal Kombat 11\n– Guilty Gear Strive\n– Dragon Ball FighterZ\n– Tekken 7 \nVous pouvez vous inscrire ici ou sur la page de l’événement: https://challonge.com/fr/events/TAF1\nLa gestion des inscriptions et des détails du tournoi seron sur le discord de l’association. (lien en haut de la page) \nRendez-vous le dimanche 27 février 2022. On commencera les hostilités en début d’apres midi.\n(22) Rue Henry IV à Castres!
URL:https://rixe-arena-tournament.fr/event/ptit-taf/
LOCATION:Salles de Castres\, 22 rue henry IV\, Castres\, 81100\, France
END:VEVENT
END:VCALENDAR