BEGIN:VCALENDAR
VERSION:2.0
PRODID:-//Rixe Arena Tournament - ECPv5.10.0//NONSGML v1.0//EN
CALSCALE:GREGORIAN
METHOD:PUBLISH
X-WR-CALNAME:Rixe Arena Tournament
X-ORIGINAL-URL:https://rixe-arena-tournament.fr
X-WR-CALDESC:évènements pour Rixe Arena Tournament
BEGIN:VTIMEZONE
TZID:Europe/Paris
BEGIN:DAYLIGHT
TZOFFSETFROM:+0100
TZOFFSETTO:+0200
TZNAME:CEST
DTSTART:20220327T010000
END:DAYLIGHT
BEGIN:STANDARD
TZOFFSETFROM:+0200
TZOFFSETTO:+0100
TZNAME:CET
DTSTART:20221030T010000
END:STANDARD
END:VTIMEZONE
BEGIN:VEVENT
DTSTART;TZID=Europe/Paris:20221001T080000
DTEND;TZID=Europe/Paris:20221002T220000
DTSTAMP:20260423T105449
CREATED:20220401T005958Z
LAST-MODIFIED:20220620T213743Z
UID:939-1664611200-1664748000@rixe-arena-tournament.fr
SUMMARY:On road to MIXUP
DESCRIPTION:Ceux qui ont remporté leurs places vont au MixUp pour vivre un moment inoubliable…\nPourquoi pas vous ?\nVenez accompagner nos équipes pour vivre ce moment avec nous\, que ce soit en spectateur ou en combattant !
URL:https://rixe-arena-tournament.fr/event/on-road-to-mixup/
LOCATION:Tarn
END:VEVENT
BEGIN:VEVENT
DTSTART;VALUE=DATE:20221029
DTEND;VALUE=DATE:20221031
DTSTAMP:20260423T105449
CREATED:20221010T212715Z
LAST-MODIFIED:20221010T212715Z
UID:1023-1667001600-1667174399@rixe-arena-tournament.fr
SUMMARY:Blagnac Culture Geek
DESCRIPTION:Nous seront a la convention de la Blagnac Culture Geek 2022. \nQu’allons nous y faire ?\nVous le saurez bientôt…
URL:https://rixe-arena-tournament.fr/event/blagnac-culture-geek/
LOCATION:Blagnac Culture Geek\, salle polyvalente des ramiers\, blagnac\, 31700\, France
END:VEVENT
END:VCALENDAR