BEGIN:VCALENDAR
VERSION:2.0
PRODID:-//Rixe Arena Tournament - ECPv5.10.0//NONSGML v1.0//EN
CALSCALE:GREGORIAN
METHOD:PUBLISH
X-WR-CALNAME:Rixe Arena Tournament
X-ORIGINAL-URL:https://rixe-arena-tournament.fr
X-WR-CALDESC:évènements pour Rixe Arena Tournament
BEGIN:VTIMEZONE
TZID:Europe/Paris
BEGIN:DAYLIGHT
TZOFFSETFROM:+0100
TZOFFSETTO:+0200
TZNAME:CEST
DTSTART:20230326T010000
END:DAYLIGHT
BEGIN:STANDARD
TZOFFSETFROM:+0200
TZOFFSETTO:+0100
TZNAME:CET
DTSTART:20231029T010000
END:STANDARD
END:VTIMEZONE
BEGIN:VEVENT
DTSTART;TZID=Europe/Paris:20230923T190000
DTEND;TZID=Europe/Paris:20230923T230000
DTSTAMP:20260422T174316
CREATED:20230904T154303Z
LAST-MODIFIED:20230914T141844Z
UID:1199-1695495600-1695510000@rixe-arena-tournament.fr
SUMMARY:Tournoi MORTAL KOMBAT 1
DESCRIPTION:Venez participer au premier tournoi ouvrant les portes d’une nouvelle aire.\nMORTAL KOMBAT 1\n\n\nL’envie de venir se battre est dans notre sang\, alors venez!\nGet over here ! \n20H a la Maison de quartier du Castelviel\, Passage Saint-Leu\, 81000 Albi. \ninscription ici ou en magasin \n \nVenez vous battre pour l’honneur ou par simple plaisir de passer un bon moment.\nDes lots seront a gagner.
URL:https://rixe-arena-tournament.fr/event/tournoi-mortal-kombat-1/
LOCATION:Pass. Saint-Leu\, 81000 Albi\, France\, Pass. Saint-Leu\, Albi\, 81000\, France
END:VEVENT
END:VCALENDAR